Workbook

Sheet PROC_ Purchase Orders in excess
A1: Acgrp2 | B1: Acc element | C1: Acc element(T) | D1: Ap/Ar ID | E1: Ap/Ar ID(T) | F1: Accounts Payable or Accounts Rec | G1: EURO | H1: OrderNo | I1: Reason for Removal
A2: 69300 | B2: 69300 | C2: Capital Contracts Expenditure | D2: 6312 | E2: JONS CIVIL ENGINEERING CO LTD | F2: P | G2: 933295.79 | H2: 400226014
A3: 69300 | B3: 69300 | C3: Capital Contracts Expenditure | D3: 6312 | E3: JONS CIVIL ENGINEERING CO LTD | F3: P | G3: 756855.46 | H3: 400226015
A4: 69300 | B4: 69300 | C4: Capital Contracts Expenditure | D4: 6312 | E4: JONS CIVIL ENGINEERING CO LTD | F4: P | G4: 361818.32 | H4: 400224826
A5: 69300 | B5: 65500 | C5: Minor Contracts- Trade Services & other works | D5: 722597 | E5: BREEDON SURFACING SOLUTIONS IRELAND LIMITED | F5: P | G5: 179497.25 | H5: 400226051
A6: 69300 | B6: 65500 | C6: Minor Contracts- Trade Services & other works | D6: 17804 | E6: WINCOVE CONSTRUCTION LTD | F6: P | G6: 177253.76 | H6: 400223246
A7: 65700 | B7: 13200 | C7: Plant Long Life Suspense | D7: 1140 | E7: SIDHEAN TEO | F7: P | G7: 137707.75 | H7: 400225427
A8: 69300 | B8: 65500 | C8: Minor Contracts- Trade Services & other works | D8: 17804 | E8: WINCOVE CONSTRUCTION LTD | F8: P | G8: 133501.51 | H8: 400223265
A9: 69300 | B9: 65500 | C9: Minor Contracts- Trade Services & other works | D9: 722597 | E9: BREEDON SURFACING SOLUTIONS IRELAND LIMITED | F9: P | G9: 133246.45 | H9: 400225443
A10: 69300 | B10: 65500 | C10: Minor Contracts- Trade Services & other works | D10: 17804 | E10: WINCOVE CONSTRUCTION LTD | F10: P | G10: 131851.28 | H10: 400223260
A11: 79000 | B11: 79900 | C11: Consultancy/Professional Fees and Expenses | D11: 19311 | E11: VAN DIJK ARCHITECTS LTDD | F11: P | G11: 131737.92 | H11: 400225517
A12: 69300 | B12: 65500 | C12: Minor Contracts- Trade Services & other works | D12: 17804 | E12: WINCOVE CONSTRUCTION LTD | F12: P | G12: 131100.24 | H12: 400223264
A13: 69300 | B13: 65500 | C13: Minor Contracts- Trade Services & other works | D13: 17804 | E13: WINCOVE CONSTRUCTION LTD | F13: P | G13: 125156.84 | H13: 400223252
... A19: 69300 | B19: 69300 | C19: Capital Contracts Expenditure | D19: 18684 | E19: GANNON & MC NAMARA ELECTRICAL LTD | F19: P | G19: 96922.85 | H19: 400225904
A20: 86000 | B20: 86000 | C20: Energy / Utilities | D20: 4000 | E20: ENERGIA | F20: P | G20: 95977.31 | H20: 0 | I20: Remove multiple small invoices
A21: 69300 | B21: 69300 | C21: Capital Contracts Expenditure | D21: 16748 | E21: SAMMON DEVELOPMENTS (AUGHNASHEELIN) LTD | F21: P | G21: 94798.8 | H21: 400224577
A22: 69300 | B22: 65500 | C22: Minor Contracts- Trade Services & other works | D22: 17804 | E22: WINCOVE CONSTRUCTION LTD | F22: P | G22: 94067.32 | H22: 400224728
A23: 69300 | B23: 69300 | C23: Capital Contracts Expenditure | D23: 16748 | E23: SAMMON DEVELOPMENTS (AUGHNASHEELIN) LTD | F23: P | G23: 93880.17 | H23: 400226172
A24: 69300 | B24: 65500 | C24: Minor Contracts- Trade Services & other works | D24: 722597 | E24: BREEDON SURFACING SOLUTIONS IRELAND LIMITED | F24: P | G24: 93072.67 | H24: 400224800
A25: 69300 | B25: 69300 | C25: Capital Contracts Expenditure | D25: 19368 | E25: EAMONN FARRELL CARPENTRY & CONSTRUCTION LTD | F25: P | G25: 92028.65 | H25: 400225733
A26: 69300 | B26: 65500 | C26: Minor Contracts- Trade Services & other works | D26: 722597 | E26: BREEDON SURFACING SOLUTIONS IRELAND LIMITED | F26: P | G26: 91130.97 | H26: 400225444
A27: 69300 | B27: 65500 | C27: Minor Contracts- Trade Services & other works | D27: 17804 | E27: WINCOVE CONSTRUCTION LTD | F27: P | G27: 86938.73 | H27: 400225327
A28: 69300 | B28: 65500 | C28: Minor Contracts- Trade Services & other works | D28: 722597 | E28: BREEDON SURFACING SOLUTIONS IRELAND LIMITED | F28: P | G28: 82594.91 | H28: 400225532
A29: 69300 | B29: 69300 | C29: Capital Contracts Expenditure | D29: 17278 | E29: CROSSERLOUGH CONSTRUCTION LTD | F29: P | G29: 82329.88 | H29: 400225236
A30: 69300 | B30: 65500 | C30: Minor Contracts- Trade Services & other works | D30: 17804 | E30: WINCOVE CONSTRUCTION LTD | F30: P | G30: 80810.77 | H30: 400223238
A31: 69300 | B31: 65500 | C31: Minor Contracts- Trade Services & other works | D31: 722597 | E31: BREEDON SURFACING SOLUTIONS IRELAND LIMITED | F31: P | G31: 76707.73 | H31: 400225128
A32: 79000 | B32: 79900 | C32: Consultancy/Professional Fees and Expenses | D32: 14126 | E32: OVE ARUP & PARTNERS IRELAND LTD | F32: P | G32: 75599.23 | H32: 400225435
... A46: 69300 | B46: 65500 | C46: Minor Contracts- Trade Services & other works | D46: 13284 | E46: TRIUR CONSTRUCTION LTD | F46: P | G46: 54365.37 | H46: 400225538
A47: 69300 | B47: 65500 | C47: Minor Contracts- Trade Services & other works | D47: 17804 | E47: WINCOVE CONSTRUCTION LTD | F47: P | G47: 53870.73 | H47: 400226202 | I47: Remove multiple small invoices
A48: 69300 | B48: 69300 | C48: Capital Contracts Expenditure | D48: 14429 | E48: SEAN QUIGLEY CONTRACTS LTD | F48: P | G48: 53858.59 | H48: 400226298
A49: 69300 | B49: 69300 | C49: Capital Contracts Expenditure | D49: 19207 | E49: DANFO UK LTD | F49: P | G49: 53565.96 | H49: 400225511
A50: 69300 | B50: 65500 | C50: Minor Contracts- Trade Services & other works | D50: 722597 | E50: BREEDON SURFACING SOLUTIONS IRELAND LIMITED | F50: P | G50: 51954 | H50: 400225254
A51: 79000 | B51: 79900 | C51: Consultancy/Professional Fees and Expenses | D51: 14734 | E51: SWEENEY ARCHITECTS | F51: P | G51: 50467.52 | H51: 400225781
A52: 69300 | B52: 69300 | C52: Capital Contracts Expenditure | D52: 13095 | E52: EARLEY BROTHERS CONSTRUCTION LTD | F52: P | G52: 47550.83 | H52: 400225779
A53: 69300 | B53: 65500 | C53: Minor Contracts- Trade Services & other works | D53: 722597 | E53: BREEDON SURFACING SOLUTIONS IRELAND LIMITED | F53: P | G53: 46224.41 | H53: 400224805
A54: 99999 | B54: 99999 | C54: AGRESSO SYSTEM ACCOUNT | D54: 52934 | E54: BANK OF IRELAND LVP ACCOUNT | F54: P | G54: 45818.93 | H54: 0 | I54: remove lvp card
A55: 69300 | B55: 65500 | C55: Minor Contracts- Trade Services & other works | D55: 17804 | E55: WINCOVE CONSTRUCTION LTD | F55: P | G55: 45490.08 | H55: 400225305
A56: 79000 | B56: 79900 | C56: Consultancy/Professional Fees and Expenses | D56: 14126 | E56: OVE ARUP & PARTNERS IRELAND LTD | F56: P | G56: 45265.23 | H56: 400225660
A57: 69300 | B57: 65500 | C57: Minor Contracts- Trade Services & other works | D57: 17804 | E57: WINCOVE CONSTRUCTION LTD | F57: P | G57: 44978.23 | H57: 400226080
A58: 79000 | B58: 79000 | C58: Legal Fees and Expenses | D58: 11478 | E58: ARTHUR COX LLP | F58: P | G58: 43050 | H58: 400224642 | I58: Remove legal
...

Sheet ORDER WITH PRODUCT
A1: Enquiry run to determine the product for the order with the greatest value fo rto determine the SPENDCAT - DO NOT AMEND/ALTER THIS SHEET
A2: Cat3 | B2: Acgrp2 | C2: Acc element | D2: Acc element(T) | E2: Ap/Ar ID | F2: Ap/Ar ID(T) | G2: Accounts Payable or Accounts Rec | H2: OrderNo | I2: EURO | J2: SPENDCAT
A3: CAT01 | B3: 70000 | C3: 70000 | D3: Materials | E3: 5238 | F3: COLAS BITUMEN EMULSIONS (WEST) LIMITED | G3: P | H3: 400226946 | I3: 4724.2 | J3: =VLOOKUP(A3,'SPENDCAT By Product'!A:B,2,0) -> MWS020017
A4: CAT03 | B4: 70000 | C4: 70000 | D4: Materials | E4: 5238 | F4: COLAS BITUMEN EMULSIONS (WEST) LIMITED | G4: P | H4: 400226946 | I4: 1652.56 | J4: =VLOOKUP(A4,'SPENDCAT By Product'!A:B,2,0) -> MWW021017
A5: MNT04 | B5: 85200 | C5: 85250 | D5: Management Fees & Service Charges to Non-Las | E5: 10008 | F5: LOCK UP ALARMS LTD | G5: P | H5: 400226880 | I5: 1674.13 | J5: =VLOOKUP(A5,'SPENDCAT By Product'!A:B,2,0) -> SEC028001
A6: ELC001 | B6: 65700 | C6: 68500 | D6: Non-Capital Equip Purchase - Other | E6: 11847 | F6: MCADAM CONSULTING SERVICES LTD | G6: P | H6: 400226878 | I6: 13899 | J6: =VLOOKUP(A6,'SPENDCAT By Product'!A:B,2,0) -> SEC028006
A7: ELC001 | B7: 65700 | C7: 68500 | D7: Non-Capital Equip Purchase - Other | E7: 11847 | F7: MCADAM CONSULTING SERVICES LTD | G7: P | H7: 400226853 | I7: 1135 | J7: =VLOOKUP(A7,'SPENDCAT By Product'!A:B,2,0) -> SEC028006
A8: MNT04 | B8: 85200 | C8: 85250 | D8: Management Fees & Service Charges to Non-Las | E8: 10008 | F8: LOCK UP ALARMS LTD | G8: P | H8: 400226823 | I8: 8605.25 | J8: =VLOOKUP(A8,'SPENDCAT By Product'!A:B,2,0) -> SEC028001
A9: CON40 | B9: 69300 | C9: 65500 | D9: Minor Contracts- Trade Services & other works | E9: 295728 | F9: ARDCARNE GARDEN CENTRE | G9: P | H9: 400226820 | I9: 9761 | J9: =VLOOKUP(A9,'SPENDCAT By Product'!A:B,2,0) -> MWW021017
A10: HOR01 | B10: 70000 | C10: 70000 | D10: Materials | E10: 295728 | F10: ARDCARNE GARDEN CENTRE | G10: P | H10: 400226820 | I10: 6492.2 | J10: =VLOOKUP(A10,'SPENDCAT By Product'!A:B,2,0) -> MWS020017
A11: BLD37 | B11: 70000 | C11: 70000 | D11: Materials | E11: 3536 | F11: DRUMSHANBO O' DONNELL ELECTRICAL LTD | G11: P | H11: 400226742 | I11: 144.15 | J11: =VLOOKUP(A11,'SPENDCAT By Product'!A:B,2,0) -> MWS020012
A12: CON66 | B12: 69300 | C12: 69300 | D12: Capital Contracts Expenditure | E12: 13269 | F12: UISCE EIREANN (IRISH WATER) | G12: P | H12: 400226733 | I12: 13017 | J12: =VLOOKUP(A12,'SPENDCAT By Product'!A:B,2,0) -> CWK006004
A13: PLH522 | B13: 69400 | C13: 69000 | D13: Hire (Ext) - Plant/Transport/Machinery & Equipment | E13: 16704 | F13: JJ BURKE CAR SALES LTD | G13: P | H13: 400226663 | I13: 2790.38 | J13: =VLOOKUP(A13,'SPENDCAT By Product'!A:B,2,0) -> PLH024016
A14: MKT02 | B14: 75000 | C14: 80000 | D14: Advertising | E14: 19545 | F14: DESIGNWEST CREATIVES LTD | G14: P | H14: 400226658 | I14: 6150 | J14: =VLOOKUP(A14,'SPENDCAT By Product'!A:B,2,0) -> #N/A
... A1625: ENG03 | B1625: 86000 | C1625: 86000 | D1625: Energy / Utilities | E1625: 4000 | F1625: ENERGIA | G1625: P | H1625: 0 | I1625: 95977.31 | J1625: =VLOOKUP(A1625,'SPENDCAT By Product'!A:B,2,0) -> ELE033001
B1626: 99999 | C1626: 99999 | D1626: AGRESSO SYSTEM ACCOUNT | E1626: 52934 | F1626: BANK OF IRELAND LVP ACCOUNT | G1626: P | H1626: 0 | I1626: 45818.93 | J1626: =VLOOKUP(A1626,'SPENDCAT By Product'!A:B,2,0) -> #N/A
A1627: ENG11 | B1627: 86000 | C1627: 86000 | D1627: Energy / Utilities | E1627: 52299 | F1627: LVP SUPPLIER | G1627: P | H1627: 0 | I1627: 33189.12 | J1627: =VLOOKUP(A1627,'SPENDCAT By Product'!A:B,2,0) -> FVP013001
A1628: ENG3X337 | B1628: 86000 | C1628: 86000 | D1628: Energy / Utilities | E1628: 52933 | F1628: CIRCLE K FUEL CARD ACCOUNT | G1628: P | H1628: 0 | I1628: 29296.7 | J1628: =VLOOKUP(A1628,'SPENDCAT By Product'!A:B,2,0) -> #N/A
A1629: COM08 | B1629: 76000 | C1629: 76000 | D1629: Communication Expenses | E1629: 12010 | F1629: THREE IRELAND (SERVICES) HUTCHISON LIMITED | G1629: P | H1629: 0 | I1629: 22519.72 | J1629: =VLOOKUP(A1629,'SPENDCAT By Product'!A:B,2,0) -> TEL030002
A1630: RAS02 | B1630: 74900 | C1630: 73600 | D1630: Third Party Housing Rent Landlord Payments | E1630: 16911 | F1630: JIM DALTON RAS ONLY | G1630: P | H1630: 0 | I1630: 13000 | J1630: =VLOOKUP(A1630,'SPENDCAT By Product'!A:B,2,0) -> NON022005
A1631: RAS02 | B1631: 74900 | C1631: 73600 | D1631: Third Party Housing Rent Landlord Payments | E1631: 14725 | F1631: SOCIETY OF ST VINCENT DE PAUL- NORTH WEST REGION | G1631: P | H1631: 0 | I1631: 12172.56 | J1631: =VLOOKUP(A1631,'SPENDCAT By Product'!A:B,2,0) -> NON022005
B1632: 65965 | C1632: 65965 | D1632: Transfer to/from Cap/Rev (Exp) | E1632: 19216 | G1632: P | H1632: 0 | I1632: 12054 | J1632: =VLOOKUP(A1632,'SPENDCAT By Product'!A:B,2,0) -> #N/A
A1633: RAS02 | B1633: 74900 | C1633: 73600 | D1633: Third Party Housing Rent Landlord Payments | E1633: 11369 | F1633: LLR PROPERTY SERVICES LTD | G1633: P | H1633: 0 | I1633: 11250 | J1633: =VLOOKUP(A1633,'SPENDCAT By Product'!A:B,2,0) -> NON022005
A1634: POS02 | B1634: 76000 | C1634: 76100 | D1634: Postage | E1634: 11826 | F1634: CASS COMPUTER ANCILLARY SALES & SERVICES LTD. | G1634: P | H1634: 0 | I1634: 9450 | J1634: =VLOOKUP(A1634,'SPENDCAT By Product'!A:B,2,0) -> OFF023011
A1635: ENG03 | B1635: 86000 | C1635: 86000 | D1635: Energy / Utilities | E1635: 13222 | F1635: ESB ELECTRIC IRELAND | G1635: P | H1635: 0 | I1635: 8810.15 | J1635: =VLOOKUP(A1635,'SPENDCAT By Product'!A:B,2,0) -> ELE033001
A1636: SHLI02 | B1636: 74900 | C1636: 73600 | D1636: Third Party Housing Rent Landlord Payments | E1636: 17812 | F1636: DAMIEN HAMILL ( RAS ONLY ) | G1636: P | H1636: 0 | I1636: 8750 | J1636: =VLOOKUP(A1636,'SPENDCAT By Product'!A:B,2,0) -> NON022005
A1637: RAS02 | B1637: 74900 | C1637: 73600 | D1637: Third Party Housing Rent Landlord Payments | E1637: 14042 | F1637: CLUAININ VOLUNTARY HOUSING ASSOCIATION CLG | G1637: P | H1637: 0 | I1637: 7768.32 | J1637: =VLOOKUP(A1637,'SPENDCAT By Product'!A:B,2,0) -> NON022005
B1638: 59940 | C1638: 65940 | D1638: Inter Capital Transfers (Exp) | E1638: 18584 | G1638: P | H1638: 0 | I1638: 6765 | J1638: =VLOOKUP(A1638,'SPENDCAT By Product'!A:B,2,0) -> #N/A
A1639: RAS02 | B1639: 74900 | C1639: 73600 | D1639: Third Party Housing Rent Landlord Payments | E1639: 18931 | F1639: GORDON HUGHES ESTATE AGENTS | G1639: P | H1639: 0 | I1639: 6450 | J1639: =VLOOKUP(A1639,'SPENDCAT By Product'!A:B,2,0) -> NON022005
A1640: SHLI02 | B1640: 74900 | C1640: 73600 | D1640: Third Party Housing Rent Landlord Payments | E1640: 17954 | F1640: DRUMARG PROPERTIES LTD | G1640: P | H1640: 0 | I1640: 4950 | J1640: =VLOOKUP(A1640,'SPENDCAT By Product'!A:B,2,0) -> NON022005
A1641: SHLI02 | B1641: 74900 | C1641: 73600 | D1641: Third Party Housing Rent Landlord Payments | E1641: 19148 | F1641: MOSLEYWAY LIMITED | G1641: P | H1641: 0 | I1641: 4800 | J1641: =VLOOKUP(A1641,'SPENDCAT By Product'!A:B,2,0) -> NON022005
A1642: ITEQ12 | B1642: 65700 | C1642: 67500 | D1642: Non-Capital Equip Purchase - Computers | E1642: 52299 | F1642: LVP SUPPLIER | G1642: P | H1642: 0 | I1642: 4702.05 | J1642: =VLOOKUP(A1642,'SPENDCAT By Product'!A:B,2,0) -> ICT016015
A1643: RAS02 | B1643: 74900 | C1643: 73600 | D1643: Third Party Housing Rent Landlord Payments | E1643: 19355 | F1643: FRANCIS DEVANEY | G1643: P | H1643: 0 | I1643: 4200 | J1643: =VLOOKUP(A1643,'SPENDCAT By Product'!A:B,2,0) -> NON022005
A1644: SHLI02 | B1644: 74900 | C1644: 73600 | D1644: Third Party Housing Rent Landlord Payments | E1644: 19317 | F1644: AIDAN GALLAGHER | G1644: P | H1644: 0 | I1644: 4200 | J1644: =VLOOKUP(A1644,'SPENDCAT By Product'!A:B,2,0) -> NON022005
A1645: ENG3X337 | B1645: 86000 | C1645: 86000 | D1645: Energy / Utilities | E1645: 52299 | F1645: LVP SUPPLIER | G1645: P | H1645: 0 | I1645: 4145.75 | J1645: =VLOOKUP(A1645,'SPENDCAT By Product'!A:B,2,0) -> #N/A
A1646: RAS02 | B1646: 74900 | C1646: 73600 | D1646: Third Party Housing Rent Landlord Payments | E1646: 12905 | F1646: NOEL MCKEON | G1646: P | H1646: 0 | I1646: 4050 | J1646: =VLOOKUP(A1646,'SPENDCAT By Product'!A:B,2,0) -> NON022005
A1647: SHLI02 | B1647: 74900 | C1647: 73600 | D1647: Third Party Housing Rent Landlord Payments | E1647: 19175 | F1647: KIERAN O'CAROLAN | G1647: P | H1647: 0 | I1647: 3900 | J1647: =VLOOKUP(A1647,'SPENDCAT By Product'!A:B,2,0) -> NON022005
A1648: RAS02 | B1648: 74900 | C1648: 73600 | D1648: Third Party Housing Rent Landlord Payments | E1648: 10495 | F1648: MARY MCKEON | G1648: P | H1648: 0 | I1648: 3750 | J1648: =VLOOKUP(A1648,'SPENDCAT By Product'!A:B,2,0) -> NON022005
A1649: SHLI02 | B1649: 74900 | C1649: 73600 | D1649: Third Party Housing Rent Landlord Payments | E1649: 10495 | F1649: MARY MCKEON | G1649: P | H1649: 0 | I1649: 3750 | J1649: =VLOOKUP(A1649,'SPENDCAT By Product'!A:B,2,0) -> NON022005
A1650: RAS02 | B1650: 74900 | C1650: 73600 | D1650: Third Party Housing Rent Landlord Payments | E1650: 10330 | F1650: CLEMENT GAFFNEY | G1650: P | H1650: 0 | I1650: 3738 | J1650: =VLOOKUP(A1650,'SPENDCAT By Product'!A:B,2,0) -> NON022005
...

Sheet PROC_ Purchase Orders Workings
A1: Acgrp2 | B1: Acc element | C1: Acc element(T) | D1: Ap/Ar ID | E1: Ap/Ar ID(T) | F1: Accounts Payable or Accounts Rec | G1: EURO | H1: OrderNo | I1: SPEND CAT | J1: DESC | L1: IF DIFFER CHECK PO | M1: OK/PROVIDE REASON
A2: 69300 | B2: 69300 | C2: Capital Contracts Expenditure | D2: 6312 | E2: JONS CIVIL ENGINEERING CO LTD | F2: P | G2: 933295.79 | H2: 400226014 | I2: =VLOOKUP(H2,'ORDER WITH PRODUCT'!H:J,3,0) -> CWK006005 | J2: =VLOOKUP(I2,'SPENDCAT By Product'!B:C,2,0) -> Other Contracts (Works) | K2: =VLOOKUP(H2,'ORDER WITH PRODUCT'!H:J,2,0) -> 933295.79 | L2: =G2-K2 -> 0
A3: 69300 | B3: 69300 | C3: Capital Contracts Expenditure | D3: 6312 | E3: JONS CIVIL ENGINEERING CO LTD | F3: P | G3: 756855.46 | H3: 400226015 | I3: =VLOOKUP(H3,'ORDER WITH PRODUCT'!H:J,3,0) -> CWK006005 | J3: =VLOOKUP(I3,'SPENDCAT By Product'!B:C,2,0) -> Other Contracts (Works) | K3: =VLOOKUP(H3,'ORDER WITH PRODUCT'!H:J,2,0) -> 756855.46 | L3: =G3-K3 -> 0
A4: 69300 | B4: 69300 | C4: Capital Contracts Expenditure | D4: 6312 | E4: JONS CIVIL ENGINEERING CO LTD | F4: P | G4: 361818.32 | H4: 400224826 | I4: =VLOOKUP(H4,'ORDER WITH PRODUCT'!H:J,3,0) -> CWK006005 | J4: =VLOOKUP(I4,'SPENDCAT By Product'!B:C,2,0) -> Other Contracts (Works) | K4: =VLOOKUP(H4,'ORDER WITH PRODUCT'!H:J,2,0) -> 361818.32 | L4: =G4-K4 -> 0
A5: 69300 | B5: 65500 | C5: Minor Contracts- Trade Services & other works | D5: 722597 | E5: BREEDON SURFACING SOLUTIONS IRELAND LIMITED | F5: P | G5: 179497.25 | H5: 400226051 | I5: =VLOOKUP(H5,'ORDER WITH PRODUCT'!H:J,3,0) -> CWK006003 | J5: =VLOOKUP(I5,'SPENDCAT By Product'!B:C,2,0) -> Roads Works Contracts | K5: =VLOOKUP(H5,'ORDER WITH PRODUCT'!H:J,2,0) -> 91849.14 | L5: =G5-K5 -> 87648.11 | M5: ok brings in larger product code
A6: 69300 | B6: 65500 | C6: Minor Contracts- Trade Services & other works | D6: 17804 | E6: WINCOVE CONSTRUCTION LTD | F6: P | G6: 177253.76 | H6: 400223246 | I6: =VLOOKUP(H6,'ORDER WITH PRODUCT'!H:J,3,0) -> CWK006003 | J6: =VLOOKUP(I6,'SPENDCAT By Product'!B:C,2,0) -> Roads Works Contracts | K6: =VLOOKUP(H6,'ORDER WITH PRODUCT'!H:J,2,0) -> 177253.76 | L6: =G6-K6 -> 0
A7: 65700 | B7: 13200 | C7: Purchase of Class B Fire Appliance | D7: 1140 | E7: SIDHEAN TEO | F7: P | G7: 137707.75 | H7: 400225427 | I7: =VLOOKUP(H7,'ORDER WITH PRODUCT'!H:J,3,0) -> EQP010005 | J7: =VLOOKUP(I7,'SPENDCAT By Product'!B:C,2,0) -> Purchase of Attachments for Tractors & Other Plant | K7: =VLOOKUP(H7,'ORDER WITH PRODUCT'!H:J,2,0) -> 137707.75 | L7: =G7-K7 -> 0
A8: 69300 | B8: 65500 | C8: Minor Contracts- Trade Services & other works | D8: 17804 | E8: WINCOVE CONSTRUCTION LTD | F8: P | G8: 133501.51 | H8: 400223265 | I8: =VLOOKUP(H8,'ORDER WITH PRODUCT'!H:J,3,0) -> CWK006003 | J8: =VLOOKUP(I8,'SPENDCAT By Product'!B:C,2,0) -> Roads Works Contracts | K8: =VLOOKUP(H8,'ORDER WITH PRODUCT'!H:J,2,0) -> 133501.51 | L8: =G8-K8 -> 0
A9: 69300 | B9: 65500 | C9: Minor Contracts- Trade Services & other works | D9: 722597 | E9: BREEDON SURFACING SOLUTIONS IRELAND LIMITED | F9: P | G9: 133246.45 | H9: 400225443 | I9: =VLOOKUP(H9,'ORDER WITH PRODUCT'!H:J,3,0) -> CWK006003 | J9: =VLOOKUP(I9,'SPENDCAT By Product'!B:C,2,0) -> Roads Works Contracts | K9: =VLOOKUP(H9,'ORDER WITH PRODUCT'!H:J,2,0) -> 93557.77 | L9: =G9-K9 -> 39688.68 | M9: ok brings in larger product code
A10: 69300 | B10: 65500 | C10: Minor Contracts- Trade Services & other works | D10: 17804 | E10: WINCOVE CONSTRUCTION LTD | F10: P | G10: 131851.28 | H10: 400223260 | I10: =VLOOKUP(H10,'ORDER WITH PRODUCT'!H:J,3,0) -> CWK006003 | J10: =VLOOKUP(I10,'SPENDCAT By Product'!B:C,2,0) -> Roads Works Contracts | K10: =VLOOKUP(H10,'ORDER WITH PRODUCT'!H:J,2,0) -> 131851.28 | L10: =G10-K10 -> 0
A11: 79000 | B11: 79900 | C11: Consultancy/Professional Fees and Expenses | D11: 19311 | E11: VAN DIJK ARCHITECTS LTDD | F11: P | G11: 131737.92 | H11: 400225517 | I11: =VLOOKUP(H11,'ORDER WITH PRODUCT'!H:J,3,0) -> CPS004006 | J11: =VLOOKUP(I11,'SPENDCAT By Product'!B:C,2,0) -> Architectural Consultancy | K11: =VLOOKUP(H11,'ORDER WITH PRODUCT'!H:J,2,0) -> 131737.92 | L11: =G11-K11 -> 0
A12: 69300 | B12: 65500 | C12: Minor Contracts- Trade Services & other works | D12: 17804 | E12: WINCOVE CONSTRUCTION LTD | F12: P | G12: 131100.24 | H12: 400223264 | I12: =VLOOKUP(H12,'ORDER WITH PRODUCT'!H:J,3,0) -> CWK006003 | J12: =VLOOKUP(I12,'SPENDCAT By Product'!B:C,2,0) -> Roads Works Contracts | K12: =VLOOKUP(H12,'ORDER WITH PRODUCT'!H:J,2,0) -> 131100.24 | L12: =G12-K12 -> 0
A13: 69300 | B13: 65500 | C13: Minor Contracts- Trade Services & other works | D13: 17804 | E13: WINCOVE CONSTRUCTION LTD | F13: P | G13: 125156.84 | H13: 400223252 | I13: =VLOOKUP(H13,'ORDER WITH PRODUCT'!H:J,3,0) -> CWK006003 | J13: =VLOOKUP(I13,'SPENDCAT By Product'!B:C,2,0) -> Roads Works Contracts | K13: =VLOOKUP(H13,'ORDER WITH PRODUCT'!H:J,2,0) -> 125156.84 | L13: =G13-K13 -> 0
A14: 79000 | B14: 79900 | C14: Consultancy/Professional Fees and Expenses | D14: 17995 | E14: MOSART LANDSCAPE ARCHITECTURE RESEARCH LTD | F14: P | G14: 120464.3 | H14: 400225083 | I14: =VLOOKUP(H14,'ORDER WITH PRODUCT'!H:J,3,0) -> CPS004006 | J14: =VLOOKUP(I14,'SPENDCAT By Product'!B:C,2,0) -> Architectural Consultancy | K14: =VLOOKUP(H14,'ORDER WITH PRODUCT'!H:J,2,0) -> 120464.3 | L14: =G14-K14 -> 0
A15: 69300 | B15: 69300 | C15: Capital Contracts Expenditure | D15: 17278 | E15: CROSSERLOUGH CONSTRUCTION LTD | F15: P | G15: 119072.11 | H15: 400225959 | I15: =VLOOKUP(H15,'ORDER WITH PRODUCT'!H:J,3,0) -> CWK006005 | J15: =VLOOKUP(I15,'SPENDCAT By Product'!B:C,2,0) -> Other Contracts (Works) | K15: =VLOOKUP(H15,'ORDER WITH PRODUCT'!H:J,2,0) -> 119072.11 | L15: =G15-K15 -> 0
A16: 69300 | B16: 65500 | C16: Minor Contracts- Trade Services & other works | D16: 722597 | E16: BREEDON SURFACING SOLUTIONS IRELAND LIMITED | F16: P | G16: 117793.93 | H16: 400225130 | I16: =VLOOKUP(H16,'ORDER WITH PRODUCT'!H:J,3,0) -> CWK006003 | J16: =VLOOKUP(I16,'SPENDCAT By Product'!B:C,2,0) -> Roads Works Contracts | K16: =VLOOKUP(H16,'ORDER WITH PRODUCT'!H:J,2,0) -> 97772.53 | L16: =G16-K16 -> 20021.4 | M16: Brings in larger product code
A17: 69300 | B17: 65500 | C17: Minor Contracts- Trade Services & other works | D17: 17804 | E17: WINCOVE CONSTRUCTION LTD | F17: P | G17: 105267.83 | H17: 400223247 | I17: =VLOOKUP(H17,'ORDER WITH PRODUCT'!H:J,3,0) -> CWK006003 | J17: =VLOOKUP(I17,'SPENDCAT By Product'!B:C,2,0) -> Roads Works Contracts | K17: =VLOOKUP(H17,'ORDER WITH PRODUCT'!H:J,2,0) -> 105267.83 | L17: =G17-K17 -> 0
A18: 79000 | B18: 79900 | C18: Consultancy/Professional Fees and Expenses | D18: 14126 | E18: OVE ARUP & PARTNERS IRELAND LTD | F18: P | G18: 101179.8 | H18: 400225518 | I18: =VLOOKUP(H18,'ORDER WITH PRODUCT'!H:J,3,0) -> CPS004010 | J18: =VLOOKUP(I18,'SPENDCAT By Product'!B:C,2,0) -> Civil Engineering Consultancy | K18: =VLOOKUP(H18,'ORDER WITH PRODUCT'!H:J,2,0) -> 101179.8 | L18: =G18-K18 -> 0
A19: 69300 | B19: 69300 | C19: Capital Contracts Expenditure | D19: 18684 | E19: GANNON & MC NAMARA ELECTRICAL LTD | F19: P | G19: 96922.85 | H19: 400225904 | I19: =VLOOKUP(H19,'ORDER WITH PRODUCT'!H:J,3,0) -> CWK006002 | J19: =VLOOKUP(I19,'SPENDCAT By Product'!B:C,2,0) -> Housing & Building Works Contracts | K19: =VLOOKUP(H19,'ORDER WITH PRODUCT'!H:J,2,0) -> 96922.85 | L19: =G19-K19 -> 0
A20: 69300 | B20: 69300 | C20: Capital Contracts Expenditure | D20: 16748 | E20: SAMMON DEVELOPMENTS (AUGHNASHEELIN) LTD | F20: P | G20: 94798.8 | H20: 400224577 | I20: =VLOOKUP(H20,'ORDER WITH PRODUCT'!H:J,3,0) -> CWK006005 | J20: =VLOOKUP(I20,'SPENDCAT By Product'!B:C,2,0) -> Other Contracts (Works) | K20: =VLOOKUP(H20,'ORDER WITH PRODUCT'!H:J,2,0) -> 94798.8 | L20: =G20-K20 -> 0
A21: 69300 | B21: 65500 | C21: Minor Contracts- Trade Services & other works | D21: 17804 | E21: WINCOVE CONSTRUCTION LTD | F21: P | G21: 94067.32 | H21: 400224728 | I21: =VLOOKUP(H21,'ORDER WITH PRODUCT'!H:J,3,0) -> CWK006003 | J21: =VLOOKUP(I21,'SPENDCAT By Product'!B:C,2,0) -> Roads Works Contracts | K21: =VLOOKUP(H21,'ORDER WITH PRODUCT'!H:J,2,0) -> 94067.32 | L21: =G21-K21 -> 0
A22: 69300 | B22: 69300 | C22: Capital Contracts Expenditure | D22: 16748 | E22: SAMMON DEVELOPMENTS (AUGHNASHEELIN) LTD | F22: P | G22: 93880.17 | H22: 400226172 | I22: =VLOOKUP(H22,'ORDER WITH PRODUCT'!H:J,3,0) -> CWK006002 | J22: =VLOOKUP(I22,'SPENDCAT By Product'!B:C,2,0) -> Housing & Building Works Contracts | K22: =VLOOKUP(H22,'ORDER WITH PRODUCT'!H:J,2,0) -> 93880.17 | L22: =G22-K22 -> 0
A23: 69300 | B23: 65500 | C23: Minor Contracts- Trade Services & other works | D23: 722597 | E23: BREEDON SURFACING SOLUTIONS IRELAND LIMITED | F23: P | G23: 93072.67 | H23: 400224800 | I23: =VLOOKUP(H23,'ORDER WITH PRODUCT'!H:J,3,0) -> CWK006003 | J23: =VLOOKUP(I23,'SPENDCAT By Product'!B:C,2,0) -> Roads Works Contracts | K23: =VLOOKUP(H23,'ORDER WITH PRODUCT'!H:J,2,0) -> 74920.61 | L23: =G23-K23 -> 18152.06 | M23: Brings in larger product code
A24: 69300 | B24: 69300 | C24: Capital Contracts Expenditure | D24: 19368 | E24: EAMONN FARRELL CARPENTRY & CONSTRUCTION LTD | F24: P | G24: 92028.65 | H24: 400225733 | I24: =VLOOKUP(H24,'ORDER WITH PRODUCT'!H:J,3,0) -> CWK006002 | J24: =VLOOKUP(I24,'SPENDCAT By Product'!B:C,2,0) -> Housing & Building Works Contracts | K24: =VLOOKUP(H24,'ORDER WITH PRODUCT'!H:J,2,0) -> 92028.65 | L24: =G24-K24 -> 0
A25: 69300 | B25: 65500 | C25: Minor Contracts- Trade Services & other works | D25: 722597 | E25: BREEDON SURFACING SOLUTIONS IRELAND LIMITED | F25: P | G25: 91130.97 | H25: 400225444 | I25: =VLOOKUP(H25,'ORDER WITH PRODUCT'!H:J,3,0) -> CWK006003 | J25: =VLOOKUP(I25,'SPENDCAT By Product'!B:C,2,0) -> Roads Works Contracts | K25: =VLOOKUP(H25,'ORDER WITH PRODUCT'!H:J,2,0) -> 63124.84 | L25: =G25-K25 -> 28006.13 | M25: Brings in larger product code
A26: 69300 | B26: 65500 | C26: Minor Contracts- Trade Services & other works | D26: 17804 | E26: WINCOVE CONSTRUCTION LTD | F26: P | G26: 86938.73 | H26: 400225327 | I26: =VLOOKUP(H26,'ORDER WITH PRODUCT'!H:J,3,0) -> CWK006003 | J26: =VLOOKUP(I26,'SPENDCAT By Product'!B:C,2,0) -> Roads Works Contracts | K26: =VLOOKUP(H26,'ORDER WITH PRODUCT'!H:J,2,0) -> 86938.73 | L26: =G26-K26 -> 0
A27: 69300 | B27: 65500 | C27: Minor Contracts- Trade Services & other works | D27: 722597 | E27: BREEDON SURFACING SOLUTIONS IRELAND LIMITED | F27: P | G27: 82594.91 | H27: 400225532 | I27: =VLOOKUP(H27,'ORDER WITH PRODUCT'!H:J,3,0) -> CWK006003 | J27: =VLOOKUP(I27,'SPENDCAT By Product'!B:C,2,0) -> Roads Works Contracts | K27: =VLOOKUP(H27,'ORDER WITH PRODUCT'!H:J,2,0) -> 63334.53 | L27: =G27-K27 -> 19260.38 | M27: Brings in larger product code
A28: 69300 | B28: 69300 | C28: Capital Contracts Expenditure | D28: 17278 | E28: CROSSERLOUGH CONSTRUCTION LTD | F28: P | G28: 82329.88 | H28: 400225236 | I28: =VLOOKUP(H28,'ORDER WITH PRODUCT'!H:J,3,0) -> CWK006005 | J28: =VLOOKUP(I28,'SPENDCAT By Product'!B:C,2,0) -> Other Contracts (Works) | K28: =VLOOKUP(H28,'ORDER WITH PRODUCT'!H:J,2,0) -> 82329.88 | L28: =G28-K28 -> 0
A29: 69300 | B29: 65500 | C29: Minor Contracts- Trade Services & other works | D29: 17804 | E29: WINCOVE CONSTRUCTION LTD | F29: P | G29: 80810.77 | H29: 400223238 | I29: =VLOOKUP(H29,'ORDER WITH PRODUCT'!H:J,3,0) -> CWK006003 | J29: =VLOOKUP(I29,'SPENDCAT By Product'!B:C,2,0) -> Roads Works Contracts | K29: =VLOOKUP(H29,'ORDER WITH PRODUCT'!H:J,2,0) -> 80810.77 | L29: =G29-K29 -> 0
A30: 69300 | B30: 65500 | C30: Minor Contracts- Trade Services & other works | D30: 722597 | E30: BREEDON SURFACING SOLUTIONS IRELAND LIMITED | F30: P | G30: 76707.73 | H30: 400225128 | I30: =VLOOKUP(H30,'ORDER WITH PRODUCT'!H:J,3,0) -> CWK006003 | J30: =VLOOKUP(I30,'SPENDCAT By Product'!B:C,2,0) -> Roads Works Contracts | K30: =VLOOKUP(H30,'ORDER WITH PRODUCT'!H:J,2,0) -> 48769.7 | L30: =G30-K30 -> 27938.03 | M30: Brings in larger product code
A31: 79000 | B31: 79900 | C31: Consultancy/Professional Fees and Expenses | D31: 14126 | E31: OVE ARUP & PARTNERS IRELAND LTD | F31: P | G31: 75599.23 | H31: 400225435 | I31: =VLOOKUP(H31,'ORDER WITH PRODUCT'!H:J,3,0) -> CPS004010 | J31: =VLOOKUP(I31,'SPENDCAT By Product'!B:C,2,0) -> Civil Engineering Consultancy | K31: =VLOOKUP(H31,'ORDER WITH PRODUCT'!H:J,2,0) -> 75599.23 | L31: =G31-K31 -> 0
A32: 69300 | B32: 65500 | C32: Minor Contracts- Trade Services & other works | D32: 10599 | E32: PAUL GALLAGHER T/A GALLAGHER CONSTRUCTION LTD | F32: P | G32: 75466.15 | H32: 400224320 | I32: =VLOOKUP(H32,'ORDER WITH PRODUCT'!H:J,3,0) -> CWK006002 | J32: =VLOOKUP(I32,'SPENDCAT By Product'!B:C,2,0) -> Housing & Building Works Contracts | K32: =VLOOKUP(H32,'ORDER WITH PRODUCT'!H:J,2,0) -> 75466.15 | L32: =G32-K32 -> 0
A33: 69300 | B33: 65500 | C33: Minor Contracts- Trade Services & other works | D33: 10599 | E33: PAUL GALLAGHER T/A GALLAGHER CONSTRUCTION LTD | F33: P | G33: 75465.02 | H33: 400224640 | I33: =VLOOKUP(H33,'ORDER WITH PRODUCT'!H:J,3,0) -> CWK006002 | J33: =VLOOKUP(I33,'SPENDCAT By Product'!B:C,2,0) -> Housing & Building Works Contracts | K33: =VLOOKUP(H33,'ORDER WITH PRODUCT'!H:J,2,0) -> 75465.02 | L33: =G33-K33 -> 0
A34: 69300 | B34: 65500 | C34: Minor Contracts- Trade Services & other works | D34: 17804 | E34: WINCOVE CONSTRUCTION LTD | F34: P | G34: 75290.59 | H34: 400223243 | I34: =VLOOKUP(H34,'ORDER WITH PRODUCT'!H:J,3,0) -> CWK006003 | J34: =VLOOKUP(I34,'SPENDCAT By Product'!B:C,2,0) -> Roads Works Contracts | K34: =VLOOKUP(H34,'ORDER WITH PRODUCT'!H:J,2,0) -> 75290.59 | L34: =G34-K34 -> 0
A35: 69300 | B35: 65500 | C35: Minor Contracts- Trade Services & other works | D35: 17804 | E35: WINCOVE CONSTRUCTION LTD | F35: P | G35: 74794.49 | H35: 400223240 | I35: =VLOOKUP(H35,'ORDER WITH PRODUCT'!H:J,3,0) -> CWK006003 | J35: =VLOOKUP(I35,'SPENDCAT By Product'!B:C,2,0) -> Roads Works Contracts | K35: =VLOOKUP(H35,'ORDER WITH PRODUCT'!H:J,2,0) -> 74794.49 | L35: =G35-K35 -> 0
A36: 69300 | B36: 65500 | C36: Minor Contracts- Trade Services & other works | D36: 722597 | E36: BREEDON SURFACING SOLUTIONS IRELAND LIMITED | F36: P | G36: 74504.98 | H36: 400225129 | I36: =VLOOKUP(H36,'ORDER WITH PRODUCT'!H:J,3,0) -> CWK006003 | J36: =VLOOKUP(I36,'SPENDCAT By Product'!B:C,2,0) -> Roads Works Contracts | K36: =VLOOKUP(H36,'ORDER WITH PRODUCT'!H:J,2,0) -> 45851.9 | L36: =G36-K36 -> 28653.08 | M36: Brings in larger product code
A37: 69300 | B37: 65500 | C37: Minor Contracts- Trade Services & other works | D37: 722597 | E37: BREEDON SURFACING SOLUTIONS IRELAND LIMITED | F37: P | G37: 72717.12 | H37: 400224813 | I37: =VLOOKUP(H37,'ORDER WITH PRODUCT'!H:J,3,0) -> CWK006003 | J37: =VLOOKUP(I37,'SPENDCAT By Product'!B:C,2,0) -> Roads Works Contracts | K37: =VLOOKUP(H37,'ORDER WITH PRODUCT'!H:J,2,0) -> 60969.87 | L37: =G37-K37 -> 11747.25 | M37: Brings in larger product code
A38: 69300 | B38: 65500 | C38: Minor Contracts- Trade Services & other works | D38: 17804 | E38: WINCOVE CONSTRUCTION LTD | F38: P | G38: 72396.69 | H38: 400223251 | I38: =VLOOKUP(H38,'ORDER WITH PRODUCT'!H:J,3,0) -> CWK006003 | J38: =VLOOKUP(I38,'SPENDCAT By Product'!B:C,2,0) -> Roads Works Contracts | K38: =VLOOKUP(H38,'ORDER WITH PRODUCT'!H:J,2,0) -> 72396.69 | L38: =G38-K38 -> 0
A39: 69300 | B39: 65500 | C39: Minor Contracts- Trade Services & other works | D39: 17804 | E39: WINCOVE CONSTRUCTION LTD | F39: P | G39: 71552.42 | H39: 400223234 | I39: =VLOOKUP(H39,'ORDER WITH PRODUCT'!H:J,3,0) -> CWK006003 | J39: =VLOOKUP(I39,'SPENDCAT By Product'!B:C,2,0) -> Roads Works Contracts | K39: =VLOOKUP(H39,'ORDER WITH PRODUCT'!H:J,2,0) -> 71552.42 | L39: =G39-K39 -> 0
A40: 79000 | B40: 79900 | C40: Consultancy/Professional Fees and Expenses | D40: 17995 | E40: MOSART LANDSCAPE ARCHITECTURE RESEARCH LTD | F40: P | G40: 60222.1 | H40: 400226129 | I40: =VLOOKUP(H40,'ORDER WITH PRODUCT'!H:J,3,0) -> CPS004006 | J40: =VLOOKUP(I40,'SPENDCAT By Product'!B:C,2,0) -> Architectural Consultancy | K40: =VLOOKUP(H40,'ORDER WITH PRODUCT'!H:J,2,0) -> 60222.1 | L40: =G40-K40 -> 0
...

Sheet SPENDCAT By Product
A1: ART15 | B1: ART002001 | C1: Artists Fees & Expenses
A2: ART16 | B2: ART002001 | C2: Artists Fees & Expenses
A3: ART18 | B3: ART002001 | C3: Artists Fees & Expenses
A4: ART08 | B4: ART002003 | C4: Arts Events, Programmes & Workshops
A5: ART10 | B5: ART002003 | C5: Arts Events, Programmes & Workshops
A6: ART12 | B6: ART002003 | C6: Arts Events, Programmes & Workshops
A7: OFF09 | B7: ART002010 | C7: Photography & Film Services
A8: ART07 | B8: ART002011 | C8: Purchase or Commission of Art Works
A9: ART17 | B9: ART002012 | C9: Venue Hire
A10: ART19 | B10: ART002013 | C10: Other Arts & Events
A11: OFEQ05 | B11: CLO003001 | C11: Uniforms
A12: FEE19 | B12: CON005002 | C12: Coroner Services
... A842: BIT07 | B842: CWK006003 | C842: Roads Works Contracts

Sheet Published Report
A1: 2026 Quarter 3– Purchase orders greater than €20,000 – Leitrim County Council
A4: Supplier | B4: Description | C4: Total
A5: ='PROC_ Purchase Orders Workings'!E2 -> JONS CIVIL ENGINEERING CO LTD | B5: ='PROC_ Purchase Orders Workings'!J2 -> Other Contracts (Works) | C5: ='PROC_ Purchase Orders Workings'!G2 -> 933295.79
A6: ='PROC_ Purchase Orders Workings'!E3 -> JONS CIVIL ENGINEERING CO LTD | B6: ='PROC_ Purchase Orders Workings'!J3 -> Other Contracts (Works) | C6: ='PROC_ Purchase Orders Workings'!G3 -> 756855.46
A7: ='PROC_ Purchase Orders Workings'!E4 -> JONS CIVIL ENGINEERING CO LTD | B7: ='PROC_ Purchase Orders Workings'!J4 -> Other Contracts (Works) | C7: ='PROC_ Purchase Orders Workings'!G4 -> 361818.32
A8: ='PROC_ Purchase Orders Workings'!E5 -> BREEDON SURFACING SOLUTIONS IRELAND LIMITED | B8: ='PROC_ Purchase Orders Workings'!J5 -> Roads Works Contracts | C8: ='PROC_ Purchase Orders Workings'!G5 -> 179497.25
A9: ='PROC_ Purchase Orders Workings'!E6 -> WINCOVE CONSTRUCTION LTD | B9: ='PROC_ Purchase Orders Workings'!J6 -> Roads Works Contracts | C9: ='PROC_ Purchase Orders Workings'!G6 -> 177253.76
A10: ='PROC_ Purchase Orders Workings'!E7 -> SIDHEAN TEO | B10: Purchase of Class B Fire Appliance | C10: ='PROC_ Purchase Orders Workings'!G7 -> 137707.75
A11: ='PROC_ Purchase Orders Workings'!E8 -> WINCOVE CONSTRUCTION LTD | B11: ='PROC_ Purchase Orders Workings'!J8 -> Roads Works Contracts | C11: ='PROC_ Purchase Orders Workings'!G8 -> 133501.51
A12: ='PROC_ Purchase Orders Workings'!E9 -> BREEDON SURFACING SOLUTIONS IRELAND LIMITED | B12: ='PROC_ Purchase Orders Workings'!J9 -> Roads Works Contracts | C12: ='PROC_ Purchase Orders Workings'!G9 -> 133246.45
A13: ='PROC_ Purchase Orders Workings'!E10 -> WINCOVE CONSTRUCTION LTD | B13: ='PROC_ Purchase Orders Workings'!J10 -> Roads Works Contracts | C13: ='PROC_ Purchase Orders Workings'!G10 -> 131851.28
A14: ='PROC_ Purchase Orders Workings'!E11 -> VAN DIJK ARCHITECTS LTDD | B14: ='PROC_ Purchase Orders Workings'!J11 -> Architectural Consultancy | C14: ='PROC_ Purchase Orders Workings'!G11 -> 131737.92
A15: ='PROC_ Purchase Orders Workings'!E12 -> WINCOVE CONSTRUCTION LTD | B15: ='PROC_ Purchase Orders Workings'!J12 -> Roads Works Contracts | C15: ='PROC_ Purchase Orders Workings'!G12 -> 131100.24
A16: ='PROC_ Purchase Orders Workings'!E13 -> WINCOVE CONSTRUCTION LTD | B16: ='PROC_ Purchase Orders Workings'!J13 -> Roads Works Contracts | C16: ='PROC_ Purchase Orders Workings'!G13 -> 125156.84
A17: ='PROC_ Purchase Orders Workings'!E14 -> MOSART LANDSCAPE ARCHITECTURE RESEARCH LTD | B17: ='PROC_ Purchase Orders Workings'!J14 -> Architectural Consultancy | C17: ='PROC_ Purchase Orders Workings'!G14 -> 120464.3
A18: ='PROC_ Purchase Orders Workings'!E15 -> CROSSERLOUGH CONSTRUCTION LTD | B18: ='PROC_ Purchase Orders Workings'!J15 -> Other Contracts (Works) | C18: ='PROC_ Purchase Orders Workings'!G15 -> 119072.11
A19: ='PROC_ Purchase Orders Workings'!E16 -> BREEDON SURFACING SOLUTIONS IRELAND LIMITED | B19: ='PROC_ Purchase Orders Workings'!J16 -> Roads Works Contracts | C19: ='PROC_ Purchase Orders Workings'!G16 -> 117793.93
A20: ='PROC_ Purchase Orders Workings'!E17 -> WINCOVE CONSTRUCTION LTD | B20: ='PROC_ Purchase Orders Workings'!J17 -> Roads Works Contracts | C20: ='PROC_ Purchase Orders Workings'!G17 -> 105267.83
A21: ='PROC_ Purchase Orders Workings'!E18 -> OVE ARUP & PARTNERS IRELAND LTD | B21: ='PROC_ Purchase Orders Workings'!J18 -> Civil Engineering Consultancy | C21: ='PROC_ Purchase Orders Workings'!G18 -> 101179.8
A22: ='PROC_ Purchase Orders Workings'!E19 -> GANNON & MC NAMARA ELECTRICAL LTD | B22: ='PROC_ Purchase Orders Workings'!J19 -> Housing & Building Works Contracts | C22: ='PROC_ Purchase Orders Workings'!G19 -> 96922.85
... A84: ='PROC_ Purchase Orders Workings'!E81 -> LEITRIM INTEGRATED DEVELOPMENT CO (TRAVELLER CDC) | B84: ='PROC_ Purchase Orders Workings'!J81 -> Other Non-OGP Related Products & services | C84: ='PROC_ Purchase Orders Workings'!G81 -> 20305
C85: =SUM(C5:C84) -> 7279255.4
A87:  Payments in respect of purchase orders are inclusive of VAT where appropriate
A88:  Payments to suppliers are net of Withholding Tax where applicable.
A89:  Penalty interest may be added at point of payment for late payments over 30 days (or whatever is agreed with the supplier). In addition, if the penalty
A90: interest amount calculated goes over €125 it is then subject to DIRT
A91:  The report includes payments for goods or services and does not include grants-in-aid, reimbursements, etc.
A92:  Some Purchase Orders may be excluded if their publication would be precluded under Freedom of Information legislation

Sheet Addit Wording
A2: Payments in respect of purchase orders are inclusive of VAT where appropriate
A3: Payments to suppliers are net of Witholding Tax where applicable
A4: Penalty interest may be added at point of payment for late payments over 30 days(or whatever is agreed with the supplier). In addition,
A5: if the penalty interest amount calculated goes over €125 it is then subject to DIRT
A6: The report includes payments for goods or services and does not include grants-in-aid, reimbursements, etc.
A7: Some Purchase orders may be excluded if their publication would be precluded under Freedom of Information legislation

Sheet note
B1: VL = Reversal
B2: II =Invoice
B3: IP=Payment
B4: AP= A/C Payable
A8: T | B8: TT | C8: OrderNo | D8: Ap/Ar ID | E8: Ap/Ar ID (T) | F8: TransNo | G8: # | H8: Trans.date | I8: Period | J8: Acc element | K8: JOB | L8: Cat3 | M8: TC | N8: Text | O8: EURO
A9: B | B9: II | C9: 400226051 | D9: 722597 | E9: BREEDON SURFACING SOLUTIONS IRELAND LIMITED | F9: 30373863 | G9: 0 | H9: 46265 | I9: 202609 | J9: 65500 | K9: 23215122 | L9: BIT07 | M9: E2 | O9: 91849.14 | P9: Brings in larger product code
A10: B | B10: II | C10: 400226051 | D10: 722597 | E10: BREEDON SURFACING SOLUTIONS IRELAND LIMITED | F10: 30373863 | G10: 1 | H10: 46265 | I10: 202609 | J10: 65500 | K10: 23215122 | L10: BIT26 | M10: E2 | O10: 81362.48
A11: B | B11: II | C11: 400226051 | D11: 722597 | E11: BREEDON SURFACING SOLUTIONS IRELAND LIMITED | F11: 30373863 | G11: 2 | H11: 46265 | I11: 202609 | J11: 65500 | K11: 23215122 | L11: BIT24 | M11: E2 | O11: 6285.63
A12: B | B12: II | C12: 400226051 | D12: 722597 | E12: BREEDON SURFACING SOLUTIONS IRELAND LIMITED | F12: 30373863 | G12: 3 | H12: 46265 | I12: 202609 | J12: 35000 | M12: Z2 | O12: -158147.35
A13: B | B13: II | C13: 400226051 | D13: 722597 | E13: BREEDON SURFACING SOLUTIONS IRELAND LIMITED | F13: 30373863 | G13: 7 | H13: 46265 | I13: 202609 | J13: 35195 | M13: 0 | O13: -21349.89
O14: 0.01
A16: T | B16: TT | C16: OrderNo | D16: Ap/Ar ID | E16: Ap/Ar ID (T) | F16: TransNo | G16: # | H16: Trans.date | I16: Period | J16: Acc element | K16: JOB | L16: Cat3 | M16: TC | N16: Text | O16: EURO
A17: B | B17: II | C17: 400225443 | D17: 722597 | E17: BREEDON SURFACING SOLUTIONS IRELAND LIMITED | F17: 30372372 | G17: 0 | H17: 46227 | I17: 202609 | J17: 65500 | K17: 23215122 | L17: BIT17 | M17: E2 | O17: 93557.77 | P17: Brings in larger product code
A18: B | B18: II | C18: 400225443 | D18: 722597 | E18: BREEDON SURFACING SOLUTIONS IRELAND LIMITED | F18: 30372372 | G18: 1 | H18: 46227 | I18: 202609 | J18: 65500 | K18: 23215122 | L18: BIT24 | M18: E2 | O18: 10269.48
A19: B | B19: II | C19: 400225443 | D19: 722597 | E19: BREEDON SURFACING SOLUTIONS IRELAND LIMITED | F19: 30372372 | G19: 2 | H19: 46227 | I19: 202609 | J19: 65500 | K19: 23215122 | L19: BIT26 | M19: E2 | O19: 29419.2
A20: B | B20: II | C20: 400225443 | D20: 722597 | E20: BREEDON SURFACING SOLUTIONS IRELAND LIMITED | F20: 30372372 | G20: 3 | H20: 46227 | I20: 202609 | J20: 35000 | M20: Z2 | O20: -117397.75
A21: B | B21: II | C21: 400225443 | D21: 722597 | E21: BREEDON SURFACING SOLUTIONS IRELAND LIMITED | F21: 30372372 | G21: 7 | H21: 46227 | I21: 202609 | J21: 35195 | M21: 0 | O21: -15848.7
O22: 0
A24: T | B24: TT | C24: OrderNo | D24: Ap/Ar ID | E24: Ap/Ar ID (T) | F24: TransNo | G24: # | H24: Trans.date | I24: Period | J24: Acc element | K24: JOB | L24: Cat3 | M24: TC | N24: Text | O24: EURO
A25: B | B25: II | C25: 400225130 | D25: 722597 | E25: BREEDON SURFACING SOLUTIONS IRELAND LIMITED | F25: 30372143 | G25: 0 | H25: 46224 | I25: 202608 | J25: 65500 | K25: 24215307 | L25: BIT17 | M25: E2 | O25: 97772.53 | P25: Brings in larger product code
A26: B | B26: II | C26: 400225130 | D26: 722597 | E26: BREEDON SURFACING SOLUTIONS IRELAND LIMITED | F26: 30372143 | G26: 1 | H26: 46224 | I26: 202608 | J26: 65500 | K26: 24215307 | L26: BIT26 | M26: E2 | O26: 20021.4
A27: B | B27: II | C27: 400225130 | D27: 722597 | E27: BREEDON SURFACING SOLUTIONS IRELAND LIMITED | F27: 30372143 | G27: 2 | H27: 46224 | I27: 202608 | J27: 35000 | M27: Z2 | O27: -103783.2
A28: B | B28: II | C28: 400225130 | D28: 722597 | E28: BREEDON SURFACING SOLUTIONS IRELAND LIMITED | F28: 30372143 | G28: 5 | H28: 46224 | I28: 202608 | J28: 35195 | M28: 0 | O28: -14010.73
O29: 0
A31: T | B31: TT | C31: OrderNo | D31: Ap/Ar ID | E31: Ap/Ar ID (T) | F31: TransNo | G31: # | H31: Trans.date | I31: Period | J31: Acc element | K31: JOB | L31: Cat3 | M31: TC | N31: Text | O31: EURO
A32: B | B32: II | C32: 400224800 | D32: 722597 | E32: BREEDON SURFACING SOLUTIONS IRELAND LIMITED | F32: 30370779 | G32: 7 | H32: 46203 | I32: 202607 | J32: 35195 | M32: 0 | O32: -11070.32
A33: B | B33: II | C33: 400224800 | D33: 722597 | E33: BREEDON SURFACING SOLUTIONS IRELAND LIMITED | F33: 30370779 | G33: 0 | H33: 46203 | I33: 202607 | J33: 65500 | K33: 23215122 | L33: BIT17 | M33: E2 | O33: 74920.61 | P33: Brings in larger product code
A34: B | B34: II | C34: 400224800 | D34: 722597 | E34: BREEDON SURFACING SOLUTIONS IRELAND LIMITED | F34: 30370779 | G34: 1 | H34: 46203 | I34: 202607 | J34: 65500 | K34: 23215122 | L34: BIT30 | M34: E2 | O34: 9384.18
A35: B | B35: II | C35: 400224800 | D35: 722597 | E35: BREEDON SURFACING SOLUTIONS IRELAND LIMITED | F35: 30370779 | G35: 2 | H35: 46203 | I35: 202607 | J35: 65500 | K35: 23215122 | L35: BIT26 | M35: E2 | O35: 8767.88
A36: B | B36: II | C36: 400224800 | D36: 722597 | E36: BREEDON SURFACING SOLUTIONS IRELAND LIMITED | F36: 30370779 | G36: 3 | H36: 46203 | I36: 202607 | J36: 35000 | M36: Z2 | O36: -82002.35
O37: 0
A39: T | B39: TT | C39: OrderNo | D39: Ap/Ar ID | E39: Ap/Ar ID (T) | F39: TransNo | G39: # | H39: Trans.date | I39: Period | J39: Acc element | K39: JOB | L39: Cat3 | M39: TC | N39: Text | O39: EURO
A40: B | B40: II | C40: 400225444 | D40: 722597 | E40: BREEDON SURFACING SOLUTIONS IRELAND LIMITED | F40: 30372374 | G40: 0 | H40: 46227 | I40: 202609 | J40: 65500 | K40: 24215307 | L40: BIT17 | M40: E2 | O40: 63124.84 | P40: Brings in larger product code
A41: B | B41: II | C41: 400225444 | D41: 722597 | E41: BREEDON SURFACING SOLUTIONS IRELAND LIMITED | F41: 30372374 | G41: 1 | H41: 46227 | I41: 202609 | J41: 65500 | K41: 24215307 | L41: BIT26 | M41: E2 | O41: 28006.13
A42: B | B42: II | C42: 400225444 | D42: 722597 | E42: BREEDON SURFACING SOLUTIONS IRELAND LIMITED | F42: 30372374 | G42: 2 | H42: 46227 | I42: 202609 | J42: 35000 | M42: Z2 | O42: -80291.6
A43: B | B43: II | C43: 400225444 | D43: 722597 | E43: BREEDON SURFACING SOLUTIONS IRELAND LIMITED | F43: 30372374 | G43: 5 | H43: 46227 | I43: 202609 | J43: 35195 | M43: 0 | O43: -10839.37
O44: 0
A47: T | B47: TT | C47: OrderNo | D47: Ap/Ar ID | E47: Ap/Ar ID (T) | F47: TransNo | G47: # | H47: Trans.date | I47: Period | J47: Acc element | K47: JOB | L47: Cat3 | M47: TC | N47: Text | O47: EURO
A48: B | B48: II | C48: 400225532 | D48: 722597 | E48: BREEDON SURFACING SOLUTIONS IRELAND LIMITED | F48: 30370996 | G48: 0 | H48: 46203 | I48: 202607 | J48: 65500 | K48: 23215122 | L48: BIT17 | M48: E2 | O48: 63334.53 | P48: Brings in larger product code
A49: B | B49: II | C49: 400225532 | D49: 722597 | E49: BREEDON SURFACING SOLUTIONS IRELAND LIMITED | F49: 30370996 | G49: 3 | H49: 46203 | I49: 202607 | J49: 65500 | K49: 23215122 | L49: BIT18 | M49: E2 | O49: 7150.5
...
